BEGIN:VCALENDAR
VERSION:2.0
PRODID:-//Drupal//DD Create//EN
METHOD:PUBLISH
BEGIN:VEVENT
UID:dd_create.3034.0
DTSTAMP:20260425T233818Z
DTSTART:20260130T200000Z
DTEND:20260130T210000Z
SUMMARY:Living and Dying in the Shadow of Mass Incarceration
LOCATION:2203 SS&H, Andrews Conference Room
URL;VALUE=URI:https://poverty.ucdavis.edu/event/living-and-dying-shadow-mass-incarceration
END:VEVENT
END:VCALENDAR
