BEGIN:VCALENDAR
VERSION:2.0
PRODID:-//Drupal//DD Create//EN
METHOD:PUBLISH
BEGIN:VEVENT
UID:dd_create.2989.0
DTSTAMP:20260420T153032Z
DTSTART:20250225T230000Z
DTEND:20250226T003000Z
SUMMARY:Food Insecurity: From Research to Practice and Policy
LOCATION:Andrews Conference Room, 2203 SS&H
URL;VALUE=URI:https://poverty.ucdavis.edu/event/food-insecurity-research-practice-and-policy
END:VEVENT
END:VCALENDAR
