BEGIN:VCALENDAR
VERSION:2.0
PRODID:-//Drupal//DD Create//EN
METHOD:PUBLISH
BEGIN:VEVENT
UID:dd_create.2894.0
DTSTAMP:20260420T052550Z
DTSTART:20230317T000000Z
DTEND:20230317T013000Z
SUMMARY:Cantadora Wine & UC-Davis CPIR present a virtual Wine Masterclass
LOCATION:Register for Zoom Information
URL;VALUE=URI:https://poverty.ucdavis.edu/event/cantadora-wine-uc-davis-cpir-present-virtual-wine-masterclass
END:VEVENT
END:VCALENDAR
