BEGIN:VCALENDAR
VERSION:2.0
PRODID:-//Drupal//DD Create//EN
METHOD:PUBLISH
BEGIN:VEVENT
UID:dd_create.2871.0
DTSTAMP:20260420T052600Z
DTSTART:20230227T201000Z
DTEND:20230227T213000Z
SUMMARY:The Place-based Turn in Federal Policy: Implications for Urban Poverty & Inequality 
LOCATION:2203 SS&H Andrews Conference Room
URL;VALUE=URI:https://poverty.ucdavis.edu/event/place-based-turn-federal-policy-implications-urban-poverty-inequality
END:VEVENT
END:VCALENDAR
