BEGIN:VCALENDAR
VERSION:2.0
PRODID:-//Drupal//DD Create//EN
METHOD:PUBLISH
BEGIN:VEVENT
UID:dd_create.2869.0
DTSTAMP:20260423T153016Z
DTSTART:20221021T191000Z
DTEND:20221021T203000Z
SUMMARY:Re-Centering Agency: A Paradigm Shift for Researching Inequality 
LOCATION:In-Person Only: Andrews Conference Room, 2203 SS&H
URL;VALUE=URI:https://poverty.ucdavis.edu/event/re-centering-agency-paradigm-shift-researching-inequality
END:VEVENT
END:VCALENDAR
