BEGIN:VCALENDAR
VERSION:2.0
PRODID:-//Drupal//DD Create//EN
METHOD:PUBLISH
BEGIN:VEVENT
UID:dd_create.2640.0
DTSTAMP:20260425T190543Z
DTSTART:20200129T201000Z
DTEND:20200129T210000Z
SUMMARY:The Minimum Wage and Consumer Nutrition
LOCATION:2203 SS&H, Andrews Conference Room
URL;VALUE=URI:https://poverty.ucdavis.edu/event/minimum-wage-and-consumer-nutrition
END:VEVENT
END:VCALENDAR
