BEGIN:VCALENDAR
VERSION:2.0
PRODID:-//Drupal//DD Create//EN
METHOD:PUBLISH
BEGIN:VEVENT
UID:dd_create.2638.0
DTSTAMP:20260420T191140Z
DTSTART:20200116T200000Z
DTEND:20200116T210000Z
SUMMARY:A Roadmap to Reducing Child Poverty: A Report from the National Academy of Sciences
LOCATION:UC Center Sacramento, 1130 K St LL22, Sacramento, CA 95814
URL;VALUE=URI:https://poverty.ucdavis.edu/event/roadmap-reducing-child-poverty-report-national-academy-sciences
END:VEVENT
END:VCALENDAR
