BEGIN:VCALENDAR
VERSION:2.0
PRODID:-//Drupal//DD Create//EN
METHOD:PUBLISH
BEGIN:VEVENT
UID:dd_create.2514.0
DTSTAMP:20260423T155003Z
DTSTART:20181019T221000Z
DTEND:20181019T233000Z
SUMMARY:The Effects of DNA Databases on the Deterrence and Detection of Offenders
LOCATION:Andrews Conference Room, 2203 SS&H
URL;VALUE=URI:https://poverty.ucdavis.edu/event/effects-dna-databases-deterrence-and-detection-offenders
END:VEVENT
END:VCALENDAR
