BEGIN:VCALENDAR
VERSION:2.0
PRODID:-//Drupal//DD Create//EN
METHOD:PUBLISH
BEGIN:VEVENT
UID:dd_create.2129.0
DTSTAMP:20260423T181952Z
DTSTART:20160426T191000Z
DTEND:20160426T203000Z
SUMMARY:Education for All? Evidence from an Audit Study of Charter Schools
LOCATION: 1113 SS&H, Economics Blue Conference Room
URL;VALUE=URI:https://poverty.ucdavis.edu/event/education-all-evidence-audit-study-charter-schools
END:VEVENT
END:VCALENDAR
