BEGIN:VCALENDAR
VERSION:2.0
PRODID:-//Drupal//DD Create//EN
METHOD:PUBLISH
BEGIN:VEVENT
UID:dd_create.1646.0
DTSTAMP:20260420T191200Z
DTSTART:20141113T080000Z
DTEND:20141114T080000Z
SUMMARY:Poverty and Place Conference
LOCATION:Memorial Union, MU II Room
URL;VALUE=URI:https://poverty.ucdavis.edu/event/poverty-and-place-conference
END:VEVENT
END:VCALENDAR
